BEGIN:VCALENDAR
VERSION:2.0
PRODID:-//WTC De Hoek - ECPv6.15.16//NONSGML v1.0//EN
CALSCALE:GREGORIAN
METHOD:PUBLISH
X-ORIGINAL-URL:https://www.wtcdehoek.be/fr/
X-WR-CALDESC:Évènements pour WTC De Hoek
REFRESH-INTERVAL;VALUE=DURATION:PT1H
X-Robots-Tag:noindex
X-PUBLISHED-TTL:PT1H
BEGIN:VTIMEZONE
TZID:UTC
BEGIN:STANDARD
TZOFFSETFROM:+0000
TZOFFSETTO:+0000
TZNAME:UTC
DTSTART:20240101T000000
END:STANDARD
END:VTIMEZONE
BEGIN:VEVENT
DTSTART;TZID=UTC:20250302T090000
DTEND;TZID=UTC:20250302T120000
DTSTAMP:20260419T233734
CREATED:20241028T120003Z
LAST-MODIFIED:20241227T113022Z
UID:5218-1740906000-1740916800@www.wtcdehoek.be
SUMMARY:DÉBUT SAISON 2025
DESCRIPTION:Le dimanche 2 mars\, nous nous retrouverons pour nos randonnées en groupe. \nLe départ est donné à l’église de Rhode-Saint-Genèse (Rue du Village). \nSi le temps le permet\, nous nous maintiendrons également en forme pendant l’hiver…. \nN’hésitez pas à nous CONTACTER si vous souhaitez nous accompagner !
URL:https://www.wtcdehoek.be/fr/event/debut-saison-2025/
LOCATION:Kerk Sint-Genesius-Rode\, Dorpsstraat 40\, Sint-Genesius-Rode\, 1640\, Belgium
END:VEVENT
BEGIN:VEVENT
DTSTART;TZID=UTC:20250330T083000
DTEND;TZID=UTC:20250330T140000
DTSTAMP:20260419T233734
CREATED:20250112T102249Z
LAST-MODIFIED:20250129T205922Z
UID:5347-1743323400-1743343200@www.wtcdehoek.be
SUMMARY:JOURNÉE D'INTRODUCTION
DESCRIPTION:Vous doutez si rouler en club est fait pour vous ? Venez l’essayer ! \nLe 30 mars 2025  nous nous rassemblons à partir de 8h30  sur le parking derrière la Maison Communale de Rhode-Saint-Genèse. \nFan de cyclisme ou mordu du vélo ? Tout me monde est bienvenue à rouler avec nos groupes.\nAussi les vélos électriques… \nPour que tout soit bien organisé\, nous vous demandons de vous inscrire à l’avance via info@wtcdehoek.be \nAprès le café de bienvenue\, nous partons à 9h avec nos 4 groupes : \nGroupe 1 : 100km – 30km/h \nGroupe 2 : 80km – 28km/h \nGroupe 3 : 60km – 25km/h \nGroupe 4 : 40km – 22km/h – Vélo électrique  \nLes randonnées se terminent à la Maison Communal afin de permettre les échanges après l’effort.
URL:https://www.wtcdehoek.be/fr/event/journee-dintroduction/
LOCATION:Parking Gemeentehuis Rode\, Gemeentehuislaan\, Sint-Genesius-Rode\, 1640\, Belgium
END:VEVENT
END:VCALENDAR